BEGIN:VCALENDAR
VERSION:2.0
PRODID:-//Indiana Climbers Coalition - ECPv6.15.20//NONSGML v1.0//EN
CALSCALE:GREGORIAN
METHOD:PUBLISH
X-WR-CALNAME:Indiana Climbers Coalition
X-ORIGINAL-URL:https://www.indianaclimbing.org
X-WR-CALDESC:Events for Indiana Climbers Coalition
REFRESH-INTERVAL;VALUE=DURATION:PT1H
X-Robots-Tag:noindex
X-PUBLISHED-TTL:PT1H
BEGIN:VTIMEZONE
TZID:America/Indiana/Indianapolis
BEGIN:DAYLIGHT
TZOFFSETFROM:-0500
TZOFFSETTO:-0400
TZNAME:EDT
DTSTART:20250309T070000
END:DAYLIGHT
BEGIN:STANDARD
TZOFFSETFROM:-0400
TZOFFSETTO:-0500
TZNAME:EST
DTSTART:20251102T060000
END:STANDARD
BEGIN:DAYLIGHT
TZOFFSETFROM:-0500
TZOFFSETTO:-0400
TZNAME:EDT
DTSTART:20260308T070000
END:DAYLIGHT
BEGIN:STANDARD
TZOFFSETFROM:-0400
TZOFFSETTO:-0500
TZNAME:EST
DTSTART:20261101T060000
END:STANDARD
BEGIN:DAYLIGHT
TZOFFSETFROM:-0500
TZOFFSETTO:-0400
TZNAME:EDT
DTSTART:20270314T070000
END:DAYLIGHT
BEGIN:STANDARD
TZOFFSETFROM:-0400
TZOFFSETTO:-0500
TZNAME:EST
DTSTART:20271107T060000
END:STANDARD
END:VTIMEZONE
BEGIN:VEVENT
DTSTART;TZID=America/Indiana/Indianapolis:20260411T120000
DTEND;TZID=America/Indiana/Indianapolis:20260411T200000
DTSTAMP:20260423T145025
CREATED:20260410T185459Z
LAST-MODIFIED:20260410T193456Z
UID:5117-1775908800-1775937600@www.indianaclimbing.org
SUMMARY:Grip Fest Indy
DESCRIPTION:Grip Fest is Indy’s premier climbing gear festival where community and industry meet face-to-face. \nFor one day\, North Mass Boulder and Roam & Stow bring nearly every major climbing shoe brand together under one roof—from La Sportiva and Scarpa to Evolv\, Butora\, Tenaya\, Mad Rock\, and Ocun — alongside heavy hitters like Black Diamond and culture-forward brands like So iLL. \nIt doesn’t stop at shoes. Chalk innovators like Friction Labs\, training and performance brands like Crux Power\, apparel and lifestyle labels including Rungne\, Vertical Scramble\, Crux Forge\, Tragur\, and Birds Of Prey all show up. Even resolers like Yosemite Bum Resole and Rhythm Resole are in the mix. And local community forces like Circle City Climbing are part of it too. \nIT’S A DEMO\, NOT A CATALOG. \nStop scrolling and lace up. Climb it. Compare rubber. Feel downturn and stiffness. Ask the hard questions and get expert answers. Find the shoe that fits your foot — not just whatever your friend rocks.
URL:https://www.indianaclimbing.org/event/grip-fest-indy/
LOCATION:North Mass Boulder\, 1411 Roosevelt Ave\, Indianapolis\, IN\, 46201\, United States
END:VEVENT
END:VCALENDAR