BEGIN:VCALENDAR
VERSION:2.0
PRODID:-//Indiana Climbers Coalition - ECPv6.15.20//NONSGML v1.0//EN
CALSCALE:GREGORIAN
METHOD:PUBLISH
X-WR-CALNAME:Indiana Climbers Coalition
X-ORIGINAL-URL:https://www.indianaclimbing.org
X-WR-CALDESC:Events for Indiana Climbers Coalition
REFRESH-INTERVAL;VALUE=DURATION:PT1H
X-Robots-Tag:noindex
X-PUBLISHED-TTL:PT1H
BEGIN:VTIMEZONE
TZID:America/Indiana/Indianapolis
BEGIN:DAYLIGHT
TZOFFSETFROM:-0500
TZOFFSETTO:-0400
TZNAME:EDT
DTSTART:20250309T070000
END:DAYLIGHT
BEGIN:STANDARD
TZOFFSETFROM:-0400
TZOFFSETTO:-0500
TZNAME:EST
DTSTART:20251102T060000
END:STANDARD
BEGIN:DAYLIGHT
TZOFFSETFROM:-0500
TZOFFSETTO:-0400
TZNAME:EDT
DTSTART:20260308T070000
END:DAYLIGHT
BEGIN:STANDARD
TZOFFSETFROM:-0400
TZOFFSETTO:-0500
TZNAME:EST
DTSTART:20261101T060000
END:STANDARD
BEGIN:DAYLIGHT
TZOFFSETFROM:-0500
TZOFFSETTO:-0400
TZNAME:EDT
DTSTART:20270314T070000
END:DAYLIGHT
BEGIN:STANDARD
TZOFFSETFROM:-0400
TZOFFSETTO:-0500
TZNAME:EST
DTSTART:20271107T060000
END:STANDARD
END:VTIMEZONE
BEGIN:VEVENT
DTSTART;TZID=America/Indiana/Indianapolis:20260416T100000
DTEND;TZID=America/Indiana/Indianapolis:20260416T140000
DTSTAMP:20260423T161053
CREATED:20260410T201351Z
LAST-MODIFIED:20260410T201351Z
UID:5143-1776333600-1776348000@www.indianaclimbing.org
SUMMARY:Adopt a Crag by Access Fund
DESCRIPTION:Join Access Fund’s Conservation Team and Red River Gorge Climber’s Coalition is back in the Red River Gorge! This is our first big infrastructure project in the Red since 2024. This time\, thanks to a grant from the National Forest Foundation\, we’re rolling up our sleeves at the Wave Wall in the Coal Bank area\, constructing retaining walls and building sustainable trails. \nFor all trail days\, volunteers will meet at Land of the Arches Campground (LOTA) at 10am and head to the trail work site from there. We typically wrap up around 2pm\, but no worries if you are unable to stay the entire time! \n  \nFor all Adopt a Crag events\, please keep in mind the following: \n\n\nWear closed-toed shoes. Long sleeves and pants are recommended. \n\n\nBring water\, snacks\, and extra layers for the elements. \n\n\nBe prepared to be challenged\, work hard\, and gain sending karma points! \n\n\nAlthough we’ll be outside\, if you are feeling ill or have had any recent exposure to Covid please reconsider and stay home to rest up! \n\n\nIf you have any questions\, please contact stewardship@accessfund.org \nAll volunteers must complete the Access Fund waiver prior to volunteering. Volunteers also must agree to Access Fund’s Code of Conduct.
URL:https://www.indianaclimbing.org/event/adopt-a-crag-by-access-fund-2/
LOCATION:Red River Gorge\, 5150 KY-715\, Campton\, KY\, 41301\, United States
ATTACH;FMTTYPE=image/jpeg:https://www.indianaclimbing.org/wp-content/uploads/2026/04/Access-Fund-HEX.jpg
END:VEVENT
END:VCALENDAR